BEGIN:VCALENDAR
VERSION:2.0
PRODID:-//The Greek Orthodox Metropolis of Chicago - ECPv6.15.18//NONSGML v1.0//EN
CALSCALE:GREGORIAN
METHOD:PUBLISH
X-ORIGINAL-URL:https://chicago.goarch.org
X-WR-CALDESC:Events for The Greek Orthodox Metropolis of Chicago
REFRESH-INTERVAL;VALUE=DURATION:PT1H
X-Robots-Tag:noindex
X-PUBLISHED-TTL:PT1H
BEGIN:VTIMEZONE
TZID:America/Chicago
BEGIN:DAYLIGHT
TZOFFSETFROM:-0600
TZOFFSETTO:-0500
TZNAME:CDT
DTSTART:20210314T080000
END:DAYLIGHT
BEGIN:STANDARD
TZOFFSETFROM:-0500
TZOFFSETTO:-0600
TZNAME:CST
DTSTART:20211107T070000
END:STANDARD
BEGIN:DAYLIGHT
TZOFFSETFROM:-0600
TZOFFSETTO:-0500
TZNAME:CDT
DTSTART:20220313T080000
END:DAYLIGHT
BEGIN:STANDARD
TZOFFSETFROM:-0500
TZOFFSETTO:-0600
TZNAME:CST
DTSTART:20221106T070000
END:STANDARD
BEGIN:DAYLIGHT
TZOFFSETFROM:-0600
TZOFFSETTO:-0500
TZNAME:CDT
DTSTART:20230312T080000
END:DAYLIGHT
BEGIN:STANDARD
TZOFFSETFROM:-0500
TZOFFSETTO:-0600
TZNAME:CST
DTSTART:20231105T070000
END:STANDARD
BEGIN:DAYLIGHT
TZOFFSETFROM:-0600
TZOFFSETTO:-0500
TZNAME:CDT
DTSTART:20240310T080000
END:DAYLIGHT
BEGIN:STANDARD
TZOFFSETFROM:-0500
TZOFFSETTO:-0600
TZNAME:CST
DTSTART:20241103T070000
END:STANDARD
BEGIN:DAYLIGHT
TZOFFSETFROM:-0600
TZOFFSETTO:-0500
TZNAME:CDT
DTSTART:20250309T080000
END:DAYLIGHT
BEGIN:STANDARD
TZOFFSETFROM:-0500
TZOFFSETTO:-0600
TZNAME:CST
DTSTART:20251102T070000
END:STANDARD
BEGIN:DAYLIGHT
TZOFFSETFROM:-0600
TZOFFSETTO:-0500
TZNAME:CDT
DTSTART:20260308T080000
END:DAYLIGHT
BEGIN:STANDARD
TZOFFSETFROM:-0500
TZOFFSETTO:-0600
TZNAME:CST
DTSTART:20261101T070000
END:STANDARD
END:VTIMEZONE
BEGIN:VEVENT
DTSTART;VALUE=DATE:20250701
DTEND;VALUE=DATE:20250702
DTSTAMP:20260421T104232
CREATED:20220606T161726Z
LAST-MODIFIED:20220606T161726Z
UID:15818-1751328000-1751414399@chicago.goarch.org
SUMMARY:Feast of SS. Cosmas and Damian
DESCRIPTION:
URL:https://chicago.goarch.org/event/feast-of-ss-cosmas-and-damian/2025-07-01/
ATTACH;FMTTYPE=image/jpeg:https://chicago.goarch.org/wp-content/uploads/2022/06/EventCover-Feast-Day.jpg
END:VEVENT
BEGIN:VEVENT
DTSTART;VALUE=DATE:20240701
DTEND;VALUE=DATE:20240702
DTSTAMP:20260421T104232
CREATED:20220606T161726Z
LAST-MODIFIED:20220606T161726Z
UID:13497-1719792000-1719878399@chicago.goarch.org
SUMMARY:Feast of SS. Cosmas and Damian
DESCRIPTION:
URL:https://chicago.goarch.org/event/feast-of-ss-cosmas-and-damian/2024-07-01/
ATTACH;FMTTYPE=image/jpeg:https://chicago.goarch.org/wp-content/uploads/2022/06/EventCover-Feast-Day.jpg
END:VEVENT
BEGIN:VEVENT
DTSTART;VALUE=DATE:20220701
DTEND;VALUE=DATE:20220702
DTSTAMP:20260421T104232
CREATED:20220606T161726Z
LAST-MODIFIED:20220606T193421Z
UID:13298-1656633600-1656719999@chicago.goarch.org
SUMMARY:Feast of SS. Cosmas and Damian
DESCRIPTION:
URL:https://chicago.goarch.org/event/feast-of-ss-cosmas-and-damian/2022-07-01/
ATTACH;FMTTYPE=image/jpeg:https://chicago.goarch.org/wp-content/uploads/2022/06/EventCover-Feast-Day.jpg
END:VEVENT
END:VCALENDAR