BEGIN:VCALENDAR
VERSION:2.0
PRODID:-//The Greek Orthodox Metropolis of Chicago - ECPv6.15.18//NONSGML v1.0//EN
CALSCALE:GREGORIAN
METHOD:PUBLISH
X-ORIGINAL-URL:https://chicago.goarch.org
X-WR-CALDESC:Events for The Greek Orthodox Metropolis of Chicago
REFRESH-INTERVAL;VALUE=DURATION:PT1H
X-Robots-Tag:noindex
X-PUBLISHED-TTL:PT1H
BEGIN:VTIMEZONE
TZID:America/Chicago
BEGIN:DAYLIGHT
TZOFFSETFROM:-0600
TZOFFSETTO:-0500
TZNAME:CDT
DTSTART:20210314T080000
END:DAYLIGHT
BEGIN:STANDARD
TZOFFSETFROM:-0500
TZOFFSETTO:-0600
TZNAME:CST
DTSTART:20211107T070000
END:STANDARD
BEGIN:DAYLIGHT
TZOFFSETFROM:-0600
TZOFFSETTO:-0500
TZNAME:CDT
DTSTART:20220313T080000
END:DAYLIGHT
BEGIN:STANDARD
TZOFFSETFROM:-0500
TZOFFSETTO:-0600
TZNAME:CST
DTSTART:20221106T070000
END:STANDARD
BEGIN:DAYLIGHT
TZOFFSETFROM:-0600
TZOFFSETTO:-0500
TZNAME:CDT
DTSTART:20230312T080000
END:DAYLIGHT
BEGIN:STANDARD
TZOFFSETFROM:-0500
TZOFFSETTO:-0600
TZNAME:CST
DTSTART:20231105T070000
END:STANDARD
BEGIN:DAYLIGHT
TZOFFSETFROM:-0600
TZOFFSETTO:-0500
TZNAME:CDT
DTSTART:20240310T080000
END:DAYLIGHT
BEGIN:STANDARD
TZOFFSETFROM:-0500
TZOFFSETTO:-0600
TZNAME:CST
DTSTART:20241103T070000
END:STANDARD
BEGIN:DAYLIGHT
TZOFFSETFROM:-0600
TZOFFSETTO:-0500
TZNAME:CDT
DTSTART:20250309T080000
END:DAYLIGHT
BEGIN:STANDARD
TZOFFSETFROM:-0500
TZOFFSETTO:-0600
TZNAME:CST
DTSTART:20251102T070000
END:STANDARD
BEGIN:DAYLIGHT
TZOFFSETFROM:-0600
TZOFFSETTO:-0500
TZNAME:CDT
DTSTART:20260308T080000
END:DAYLIGHT
BEGIN:STANDARD
TZOFFSETFROM:-0500
TZOFFSETTO:-0600
TZNAME:CST
DTSTART:20261101T070000
END:STANDARD
END:VTIMEZONE
BEGIN:VEVENT
DTSTART;VALUE=DATE:20251109
DTEND;VALUE=DATE:20251110
DTSTAMP:20260421T110501
CREATED:20220606T170450Z
LAST-MODIFIED:20220606T170450Z
UID:16458-1762646400-1762732799@chicago.goarch.org
SUMMARY:Feast of St. Nectarios of Aegina
DESCRIPTION:
URL:https://chicago.goarch.org/event/feast-of-st-nectarios/2025-11-09/
ATTACH;FMTTYPE=image/jpeg:https://chicago.goarch.org/wp-content/uploads/2022/06/EventCover-Feast-Day.jpg
END:VEVENT
BEGIN:VEVENT
DTSTART;VALUE=DATE:20241109
DTEND;VALUE=DATE:20241110
DTSTAMP:20260421T110501
CREATED:20220606T170450Z
LAST-MODIFIED:20220606T170450Z
UID:14216-1731110400-1731196799@chicago.goarch.org
SUMMARY:Feast of St. Nectarios of Aegina
DESCRIPTION:
URL:https://chicago.goarch.org/event/feast-of-st-nectarios/2024-11-09/
ATTACH;FMTTYPE=image/jpeg:https://chicago.goarch.org/wp-content/uploads/2022/06/EventCover-Feast-Day.jpg
END:VEVENT
BEGIN:VEVENT
DTSTART;VALUE=DATE:20221109
DTEND;VALUE=DATE:20221110
DTSTAMP:20260421T110501
CREATED:20220606T170450Z
LAST-MODIFIED:20220606T190534Z
UID:13322-1667952000-1668038399@chicago.goarch.org
SUMMARY:Feast of St. Nectarios of Aegina
DESCRIPTION:
URL:https://chicago.goarch.org/event/feast-of-st-nectarios/2022-11-09/
ATTACH;FMTTYPE=image/jpeg:https://chicago.goarch.org/wp-content/uploads/2022/06/EventCover-Feast-Day.jpg
END:VEVENT
END:VCALENDAR