BEGIN:VCALENDAR
VERSION:2.0
PRODID:-//The Greek Orthodox Metropolis of Chicago - ECPv6.15.18//NONSGML v1.0//EN
CALSCALE:GREGORIAN
METHOD:PUBLISH
X-ORIGINAL-URL:https://chicago.goarch.org
X-WR-CALDESC:Events for The Greek Orthodox Metropolis of Chicago
REFRESH-INTERVAL;VALUE=DURATION:PT1H
X-Robots-Tag:noindex
X-PUBLISHED-TTL:PT1H
BEGIN:VTIMEZONE
TZID:America/Chicago
BEGIN:DAYLIGHT
TZOFFSETFROM:-0600
TZOFFSETTO:-0500
TZNAME:CDT
DTSTART:20210314T080000
END:DAYLIGHT
BEGIN:STANDARD
TZOFFSETFROM:-0500
TZOFFSETTO:-0600
TZNAME:CST
DTSTART:20211107T070000
END:STANDARD
BEGIN:DAYLIGHT
TZOFFSETFROM:-0600
TZOFFSETTO:-0500
TZNAME:CDT
DTSTART:20220313T080000
END:DAYLIGHT
BEGIN:STANDARD
TZOFFSETFROM:-0500
TZOFFSETTO:-0600
TZNAME:CST
DTSTART:20221106T070000
END:STANDARD
BEGIN:DAYLIGHT
TZOFFSETFROM:-0600
TZOFFSETTO:-0500
TZNAME:CDT
DTSTART:20230312T080000
END:DAYLIGHT
BEGIN:STANDARD
TZOFFSETFROM:-0500
TZOFFSETTO:-0600
TZNAME:CST
DTSTART:20231105T070000
END:STANDARD
BEGIN:DAYLIGHT
TZOFFSETFROM:-0600
TZOFFSETTO:-0500
TZNAME:CDT
DTSTART:20240310T080000
END:DAYLIGHT
BEGIN:STANDARD
TZOFFSETFROM:-0500
TZOFFSETTO:-0600
TZNAME:CST
DTSTART:20241103T070000
END:STANDARD
END:VTIMEZONE
BEGIN:VEVENT
DTSTART;TZID=America/Chicago:20230902T110000
DTEND;TZID=America/Chicago:20230904T180000
DTSTAMP:20260422T091812
CREATED:20230726T185704Z
LAST-MODIFIED:20230726T185704Z
UID:15872-1693652400-1693850400@chicago.goarch.org
SUMMARY:St. Nicholas Greek Festival
DESCRIPTION:The St. Nicholas Greek Festival will be held Labor Day Weekend\, September 2nd through September 4th 2023. The St. Nicholas Greek Festival is the largest ethnic festival in the St. Louis area and features authentic Greek food\, Greek dance performances\, live music\, unique Mediterranean gifts\, tours of the historic St. Nicholas Greek Orthodox Church\, and much more. \nFREE Admission. FREE Garage Parking. Air-conditioned dining area. This is a family friendly event!
URL:https://chicago.goarch.org/event/st-nicholas-greek-festival/
LOCATION:St. Nicholas Greek Orthodox Church\, St. Louis\, MO\, 4967 Forest Park Ave.\, St. Louis\, MO\, 63108\, United States
GEO:38.6399459;-90.2646083
X-APPLE-STRUCTURED-LOCATION;VALUE=URI;X-ADDRESS=St. Nicholas Greek Orthodox Church St. Louis MO 4967 Forest Park Ave. St. Louis MO 63108 United States;X-APPLE-RADIUS=500;X-TITLE=4967 Forest Park Ave.:geo:-90.2646083,38.6399459
END:VEVENT
BEGIN:VEVENT
DTSTART;VALUE=DATE:20220903
DTEND;VALUE=DATE:20220906
DTSTAMP:20260422T091812
CREATED:20220527T232722Z
LAST-MODIFIED:20220607T164329Z
UID:13202-1662163200-1662422399@chicago.goarch.org
SUMMARY:Saint Nicholas\, St. Louis
DESCRIPTION:
URL:https://chicago.goarch.org/event/st-nicholass-summer-festival-2/
LOCATION:St. Nicholas Greek Orthodox Church\, St. Louis\, MO\, 4967 Forest Park Ave.\, St. Louis\, MO\, 63108\, United States
CATEGORIES:Parish Events
ATTACH;FMTTYPE=image/jpeg:https://chicago.goarch.org/wp-content/uploads/2022/05/EventCover-Parish-Festival.jpg
GEO:38.6399459;-90.2646083
X-APPLE-STRUCTURED-LOCATION;VALUE=URI;X-ADDRESS=St. Nicholas Greek Orthodox Church St. Louis MO 4967 Forest Park Ave. St. Louis MO 63108 United States;X-APPLE-RADIUS=500;X-TITLE=4967 Forest Park Ave.:geo:-90.2646083,38.6399459
END:VEVENT
END:VCALENDAR