BEGIN:VCALENDAR
VERSION:2.0
PRODID:-//The Greek Orthodox Metropolis of Chicago - ECPv6.15.18//NONSGML v1.0//EN
CALSCALE:GREGORIAN
METHOD:PUBLISH
X-ORIGINAL-URL:https://chicago.goarch.org
X-WR-CALDESC:Events for The Greek Orthodox Metropolis of Chicago
REFRESH-INTERVAL;VALUE=DURATION:PT1H
X-Robots-Tag:noindex
X-PUBLISHED-TTL:PT1H
BEGIN:VTIMEZONE
TZID:America/Chicago
BEGIN:DAYLIGHT
TZOFFSETFROM:-0600
TZOFFSETTO:-0500
TZNAME:CDT
DTSTART:20220313T080000
END:DAYLIGHT
BEGIN:STANDARD
TZOFFSETFROM:-0500
TZOFFSETTO:-0600
TZNAME:CST
DTSTART:20221106T070000
END:STANDARD
BEGIN:DAYLIGHT
TZOFFSETFROM:-0600
TZOFFSETTO:-0500
TZNAME:CDT
DTSTART:20230312T080000
END:DAYLIGHT
BEGIN:STANDARD
TZOFFSETFROM:-0500
TZOFFSETTO:-0600
TZNAME:CST
DTSTART:20231105T070000
END:STANDARD
BEGIN:DAYLIGHT
TZOFFSETFROM:-0600
TZOFFSETTO:-0500
TZNAME:CDT
DTSTART:20240310T080000
END:DAYLIGHT
BEGIN:STANDARD
TZOFFSETFROM:-0500
TZOFFSETTO:-0600
TZNAME:CST
DTSTART:20241103T070000
END:STANDARD
END:VTIMEZONE
BEGIN:VEVENT
DTSTART;TZID=America/Chicago:20230521T150000
DTEND;TZID=America/Chicago:20230521T173000
DTSTAMP:20260421T110401
CREATED:20230425T172208Z
LAST-MODIFIED:20230425T172208Z
UID:15201-1684681200-1684690200@chicago.goarch.org
SUMMARY:A Concert to Benefit Habitat for Humanity/Lake County Featuring Pianist Mark Damisch
DESCRIPTION:The Greek Orthodox Metropolis of Chicago and SS. Peter & Paul Greek Orthodox Church Present:\nA Concert to Benefit Habitat for Humanity/Lake County\nFeaturing Pianist Mark Damisch\nSunday\, May 21   |   3:00 PM  \nAt the Gorton Center of Lake Forest  \n400 East Illinois Rd\, Lake Forest\, IL 60046  \n3:00 PM Refreshments    |    4:00PM Piano Concert    |    5:30PM Event Wrap-Up  \n  \n  \n Mark has performed in a variety of venues in hundreds of cities around the world. For more than a decade\, he has donated his talents for an annual fundraising concert in support of Habitat for Humanity/Lake County.  \nMark’s program will include “Appassionata” (Beethoven’s Sonata No. 23)\, Gershwin’s Concerto in F\, plus a few surprises.  \nJoin us for an inspiring afternoon of music and fellowship.  \n  \n Tickets are $35.  \nScan the QR code at right or go to https://ssppglenview.org/habitat-benefit to purchase online. Please consider making a free will donation to support Habitat’s important work\, whether or not you plan to attend the concert.  \nQuestions?  \nContact Brad DeSent (mensgroup@ssppglenview.org  \nor 847-998-1525).  \n  \n Thanks for supporting Habitat for Humanity 
URL:https://chicago.goarch.org/event/a-concert-to-benefit-habitat-for-humanity-lake-county-featuring-pianist-mark-damisch/
LOCATION:The Gorton Center of Lake Forest\, 400 East Illinois Rd\, Lake Forest\, IL\, 60046\, United States
CATEGORIES:Community Events,Metropolis Events
ATTACH;FMTTYPE=image/jpeg:https://chicago.goarch.org/wp-content/uploads/2023/04/HabitatConcert-May2023-v.2-Metropolis.jpg
END:VEVENT
END:VCALENDAR